BEGIN:VCALENDAR
VERSION:2.0
CALSCALE:GREGORIAN
PRODID:UW-Madison-Physics-Events
BEGIN:VEVENT
SEQUENCE:0
UID:UW-Physics-Event-1499
DTSTART:20090406T210000Z
DURATION:PT1H0M0S
DTSTAMP:20260420T094152Z
LAST-MODIFIED:20090402T111705Z
LOCATION:514 ERB
SUMMARY:Instability-Enhanced Collisional Effects Near Plasma Boundarie
 s:Langmuir's Paradox and Bohm's Criterion\, Plasma Theory Seminar\, Sc
 ott Baalrud\, UW-Madison\, CPTC
DESCRIPTION:
URL:https://www.physics.wisc.edu/events/?id=1499
END:VEVENT
END:VCALENDAR
