BEGIN:VCALENDAR
VERSION:2.0
CALSCALE:GREGORIAN
PRODID:UW-Madison-Physics-Events
BEGIN:VEVENT
SEQUENCE:0
UID:UW-Physics-Event-1509
DTSTART:20090420T170500Z
DURATION:PT1H0M0S
DTSTAMP:20260420T112016Z
LAST-MODIFIED:20090415T151419Z
LOCATION:3345 Engineering Hall
SUMMARY:Electron Bernstein Waves in Tokamaks\, Spherical Tokamaks\, St
 ellarators and RFPs\, Plasma Physics (Physics/ECE/NE 922) Seminar\, Fr
 ancesco Volpe\, University of Wisconsin\, Dept. of Engineering Physics
DESCRIPTION:
URL:https://www.physics.wisc.edu/events/?id=1509
END:VEVENT
END:VCALENDAR
