BEGIN:VCALENDAR
VERSION:2.0
CALSCALE:GREGORIAN
PRODID:UW-Madison-Physics-Events
BEGIN:VEVENT
SEQUENCE:0
UID:UW-Physics-Event-1523
DTSTART:20090506T170500Z
DURATION:PT1H0M0S
DTSTAMP:20260422T213807Z
LAST-MODIFIED:20090430T123254Z
LOCATION:3345 Engineering Hall
SUMMARY:"Simultaneous Measurement of Electron temperature and Density 
 Fluctuations in the Core of DIII-D Plasmas and Comparison with Nonline
 ar Gyrokinetic Simulations\, Plasma Physics (Physics/ECE/NE 922) Semin
 ar\, Dr. Anne White\, General Atomics
DESCRIPTION:
URL:https://www.physics.wisc.edu/events/?id=1523
END:VEVENT
END:VCALENDAR
