BEGIN:VCALENDAR
VERSION:2.0
CALSCALE:GREGORIAN
PRODID:UW-Madison-Physics-Events
BEGIN:VEVENT
SEQUENCE:0
UID:UW-Physics-Event-1526
DTSTART:20090505T003000Z
DURATION:PT1H0M0S
DTSTAMP:20260422T214744Z
LAST-MODIFIED:20090504T151741Z
LOCATION:2103 Chamberlin Hall
SUMMARY:Angels & Demons of the CERN Large Hadron Collider\, Physics De
 partment Lecture\, Wesley Smith\, UW Department of Physics
DESCRIPTION:The upcoming blockbuster movie Angels & Demons focuses on 
 an apparent plot to destroy the Vatican using a small amount of antima
 tter. Parts of the movie were actually filmed in the Large Hadron Coll
 ider at the European particle physics laboratory CERN. At the Universi
 ty of Wisconsin Physics Department\, Professor Wesley Smith will lectu
 re on the the real science of animatter\, the CERN Large Hadron collid
 er and the excitement of particle physics research.<br>\n
URL:https://www.physics.wisc.edu/events/?id=1526
END:VEVENT
END:VCALENDAR
