BEGIN:VCALENDAR
VERSION:2.0
CALSCALE:GREGORIAN
PRODID:UW-Madison-Physics-Events
BEGIN:VEVENT
SEQUENCE:0
UID:UW-Physics-Event-1530
DTSTART:20090518T210000Z
DURATION:PT1H0M0S
DTSTAMP:20260422T214701Z
LAST-MODIFIED:20090514T143110Z
LOCATION:514 ERB
SUMMARY:Elgenmode Decomposition of Nonlinear Gyrokinetic Turbulence Si
 mulations\, Plasma Theory Seminar\, David Hatch\, UW-Madison\, Dept of
  Physics/Plasma
DESCRIPTION:
URL:https://www.physics.wisc.edu/events/?id=1530
END:VEVENT
END:VCALENDAR
