BEGIN:VCALENDAR
VERSION:2.0
CALSCALE:GREGORIAN
PRODID:UW-Madison-Physics-Events
BEGIN:VEVENT
SEQUENCE:0
UID:UW-Physics-Event-1561
DTSTART:20090629T170000Z
DURATION:PT1H0M0S
DTSTAMP:20260422T214703Z
LAST-MODIFIED:20090618T145012Z
LOCATION:2103 Chamberlin Hall
SUMMARY:Experiments on 3D Evolution of Spontaneous Magnetic Reconnecti
 on\, Special Plasma Seminar\, Noam Katz\, MIT
DESCRIPTION:
URL:https://www.physics.wisc.edu/events/?id=1561
END:VEVENT
END:VCALENDAR
