BEGIN:VCALENDAR
VERSION:2.0
CALSCALE:GREGORIAN
PRODID:UW-Madison-Physics-Events
BEGIN:VEVENT
SEQUENCE:0
UID:UW-Physics-Event-1562
DTSTART:20090629T210000Z
DURATION:PT1H0M0S
DTSTAMP:20260422T214743Z
LAST-MODIFIED:20090624T121152Z
LOCATION:514 ERB
SUMMARY:Discontinuous Galerkin Methods for MHD\, Plasma Theory Seminar
 \, James Rossmanith\, UW-Madison\, Dept. of Math
DESCRIPTION:
URL:https://www.physics.wisc.edu/events/?id=1562
END:VEVENT
END:VCALENDAR
