BEGIN:VCALENDAR
VERSION:2.0
CALSCALE:GREGORIAN
PRODID:UW-Madison-Physics-Events
BEGIN:VEVENT
SEQUENCE:0
UID:UW-Physics-Event-1564
DTSTART:20090727T210000Z
DURATION:PT1H0M0S
DTSTAMP:20260422T213800Z
LAST-MODIFIED:20090629T071935Z
LOCATION:4274 Chamberlin
SUMMARY:The MARE project: status and perspectives\, NPAC (Nuclear/Part
 icle/Astro/Cosmo) Forum\, Angelo Nuciotti\, University of Milan Bicocc
 a
DESCRIPTION:
URL:https://www.physics.wisc.edu/events/?id=1564
END:VEVENT
END:VCALENDAR
