BEGIN:VCALENDAR
VERSION:2.0
CALSCALE:GREGORIAN
PRODID:UW-Madison-Physics-Events
BEGIN:VEVENT
SEQUENCE:0
UID:UW-Physics-Event-1565
DTSTART:20090706T210000Z
DURATION:PT1H0M0S
DTSTAMP:20260422T214701Z
LAST-MODIFIED:20090702T162123Z
LOCATION:514 ERB
SUMMARY:Nonlinear Evolution of Kink Unstable Jets\, Plasma Theory Semi
 nar\, Chris Carey\, UW-Madison\, Dept of Physics/Plasma
DESCRIPTION:
URL:https://www.physics.wisc.edu/events/?id=1565
END:VEVENT
END:VCALENDAR
