BEGIN:VCALENDAR
VERSION:2.0
CALSCALE:GREGORIAN
PRODID:UW-Madison-Physics-Events
BEGIN:VEVENT
SEQUENCE:0
UID:UW-Physics-Event-1573
DTSTART:20091022T223000Z
DURATION:PT1H0M0S
DTSTAMP:20260422T050711Z
LAST-MODIFIED:20090707T201931Z
LOCATION:2223 Chamberlin Hall
SUMMARY:Condensed Matter Theory\, Introductory Graduate Seminar\, Bruc
 h\, Chubukov\, Coppersmith\, Joynt\, Perkins\, Vavilov\, University of
  Wisconsin Department of Physics
DESCRIPTION:
URL:https://www.physics.wisc.edu/events/?id=1573
END:VEVENT
END:VCALENDAR
