BEGIN:VCALENDAR
VERSION:2.0
CALSCALE:GREGORIAN
PRODID:UW-Madison-Physics-Events
BEGIN:VEVENT
SEQUENCE:0
UID:UW-Physics-Event-1598
DTSTART:20091009T193000Z
DTEND:20091009T203000Z
DTSTAMP:20260422T030930Z
LAST-MODIFIED:20090831T154758Z
LOCATION:5280 Chamberlin Hall
SUMMARY:Theory/Phenomenology Seminar\, Subhaditya Bhattacharya\, Haris
 h-Chandra Research Institute
DESCRIPTION:
URL:https://www.physics.wisc.edu/events/?id=1598
END:VEVENT
END:VCALENDAR
