BEGIN:VCALENDAR
VERSION:2.0
CALSCALE:GREGORIAN
PRODID:UW-Madison-Physics-Events
BEGIN:VEVENT
SEQUENCE:0
UID:UW-Physics-Event-1637
DTSTART:20091007T213000Z
DURATION:PT1H0M0S
DTSTAMP:20260422T030859Z
LAST-MODIFIED:20090914T194944Z
LOCATION:2223 Chamberlin
SUMMARY:Shell Exploration & Production Co. Infosession\, Recruiter Inf
 osession\, David Schaper\, Shell Exploration & Production Company
DESCRIPTION:Infosession by Shell Exploration & Production Company rega
 rding job and internship opportunities for master's and Ph.D. candidat
 es. \n\nSelected interviews will be held on Thursday\, Oct. 8. If yo
 u are interested in setting up an interview\, please submit a resume a
 nd transcripts for pre-screening via email to physgrad at physics.wisc
 .edu\n
URL:https://www.physics.wisc.edu/events/?id=1637
END:VEVENT
END:VCALENDAR
