BEGIN:VCALENDAR
VERSION:2.0
CALSCALE:GREGORIAN
PRODID:UW-Madison-Physics-Events
BEGIN:VEVENT
SEQUENCE:0
UID:UW-Physics-Event-1646
DTSTART:20090928T170500Z
DURATION:PT1H0M0S
DTSTAMP:20260422T204645Z
LAST-MODIFIED:20090923T130100Z
LOCATION:4274 Chamberlin Hall
SUMMARY:Helical Equilibria and Magnetic Structures in Reversed Field P
 inch\, Plasma Physics (Physics/ECE/NE 922) Seminar\, Maria Ester Puiat
 ti\, Conzorio RFX\, Italy
DESCRIPTION:
URL:https://www.physics.wisc.edu/events/?id=1646
END:VEVENT
END:VCALENDAR
