BEGIN:VCALENDAR
VERSION:2.0
CALSCALE:GREGORIAN
PRODID:UW-Madison-Physics-Events
BEGIN:VEVENT
SEQUENCE:0
UID:UW-Physics-Event-1652
DTSTART:20091012T170500Z
DURATION:PT1H0M0S
DTSTAMP:20260422T204627Z
LAST-MODIFIED:20091008T125357Z
LOCATION:4274 Chamberlin Hall
SUMMARY:Laboratory Simulations of Astrophysical Jets and Solar Coronal
  Loops\, Plasma Physics (Physics/ECE/NE 922) Seminar\, Paul Bellan\, C
 al Tech
DESCRIPTION:
URL:https://www.physics.wisc.edu/events/?id=1652
END:VEVENT
END:VCALENDAR
