BEGIN:VCALENDAR
VERSION:2.0
CALSCALE:GREGORIAN
PRODID:UW-Madison-Physics-Events
BEGIN:VEVENT
SEQUENCE:0
UID:UW-Physics-Event-1653
DTSTART:20091019T170500Z
DURATION:PT1H0M0S
DTSTAMP:20260422T051135Z
LAST-MODIFIED:20091008T161815Z
LOCATION:4274 Chamberlin Hall
SUMMARY:Turbulence\, Structures\, Thermal and Non-thermal Particle Tra
 nsport in a Simple Toroidal Plasma\, Plasma Physics (Physics/ECE/NE 92
 2) Seminar\, Ambrogio Fasoli\, EPFL Laussane
DESCRIPTION:
URL:https://www.physics.wisc.edu/events/?id=1653
END:VEVENT
END:VCALENDAR
