BEGIN:VCALENDAR
VERSION:2.0
CALSCALE:GREGORIAN
PRODID:UW-Madison-Physics-Events
BEGIN:VEVENT
SEQUENCE:0
UID:UW-Physics-Event-1679
DTSTART:20091109T180500Z
DURATION:PT1H0M0S
DTSTAMP:20260422T204628Z
LAST-MODIFIED:20091105T173114Z
LOCATION:2301 Sterling
SUMMARY:Lithium Experiments on the T-11M Tokamak:  Development of Plas
 ma Facing Components for a Steady-State fusion Reactor\, Plasma Physic
 s (Physics/ECE/NE 922) Seminar\, Sergei Mirnov\, TRINITI Laboratory\, 
 Troitsk\, Russia
DESCRIPTION:
URL:https://www.physics.wisc.edu/events/?id=1679
END:VEVENT
END:VCALENDAR
