BEGIN:VCALENDAR
VERSION:2.0
CALSCALE:GREGORIAN
PRODID:UW-Madison-Physics-Events
BEGIN:VEVENT
SEQUENCE:0
UID:UW-Physics-Event-1701
DTSTART:20100121T220000Z
DURATION:PT1H0M0S
DTSTAMP:20260422T181534Z
LAST-MODIFIED:20091122T175653Z
LOCATION:4274 Chamberlin
SUMMARY:Double Beta Decay: A challenge for particle\, nuclear and atom
 ic physics\, NPAC (Nuclear/Particle/Astro/Cosmo) Forum\, Fedor Simkovi
 c\, Comenius University
DESCRIPTION:
URL:https://www.physics.wisc.edu/events/?id=1701
END:VEVENT
END:VCALENDAR
