BEGIN:VCALENDAR
VERSION:2.0
CALSCALE:GREGORIAN
PRODID:UW-Madison-Physics-Events
BEGIN:VEVENT
SEQUENCE:0
UID:UW-Physics-Event-1705
DTSTART:20091207T180500Z
DURATION:PT1H0M0S
DTSTAMP:20260422T204643Z
LAST-MODIFIED:20091201T133752Z
LOCATION:2301 Sterling
SUMMARY:High-Power Laser Experiments at the Large Plasma Device\, Plas
 ma Physics (Physics/ECE/NE 922) Seminar\, Chris Niemann\, University o
 f California/Los Angeles
DESCRIPTION:
URL:https://www.physics.wisc.edu/events/?id=1705
END:VEVENT
END:VCALENDAR
