BEGIN:VCALENDAR
VERSION:2.0
CALSCALE:GREGORIAN
PRODID:UW-Madison-Physics-Events
BEGIN:VEVENT
SEQUENCE:0
UID:UW-Physics-Event-1716
DTSTART:20100120T180000Z
DURATION:PT1H0M0S
DTSTAMP:20260422T181602Z
LAST-MODIFIED:20100422T184005Z
LOCATION:4274 Chamberlin Hall
SUMMARY:Undergrad Lunch with John Orrell\, John Orrell\, Pacific North
 west Lab
DESCRIPTION:John Orrell from the Pacific Northwest Lab will discuss re
 actor monitoring and applied science research positions at National La
 bs with undergraduate physics majors.
URL:https://www.physics.wisc.edu/events/?id=1716
END:VEVENT
END:VCALENDAR
