BEGIN:VCALENDAR
VERSION:2.0
CALSCALE:GREGORIAN
PRODID:UW-Madison-Physics-Events
BEGIN:VEVENT
SEQUENCE:0
UID:UW-Physics-Event-1717
DTSTART:20100120T213000Z
DURATION:PT1H0M0S
DTSTAMP:20260422T181637Z
LAST-MODIFIED:20100111T143816Z
LOCATION:5280 Chamberlin Hall
SUMMARY:Coffee & Cookies with John Orrell\, Coffee & Cookies\, John Or
 rell\, Pacific Northwest Lab
DESCRIPTION:John Orrell from the Pacific Northwest Lab will discuss re
 actor monitoring and applied science research positions at National La
 bs with undergraduate physics majors\, graduate students and postdocs.
URL:https://www.physics.wisc.edu/events/?id=1717
END:VEVENT
END:VCALENDAR
