BEGIN:VCALENDAR
VERSION:2.0
CALSCALE:GREGORIAN
PRODID:UW-Madison-Physics-Events
BEGIN:VEVENT
SEQUENCE:0
UID:UW-Physics-Event-1718
DTSTART:20100409T193000Z
DURATION:PT1H0M0S
DTSTAMP:20260419T193958Z
LAST-MODIFIED:20100111T143856Z
LOCATION:4274 Chamberlin
SUMMARY:Diffuse Emission of GeV and TeV Gamma Rays:  Prospects with Fe
 rmi and HAWC\, NPAC (Nuclear/Particle/Astro/Cosmo) Forum\, Petra Huent
 emeyer\, Michigan Technological University
DESCRIPTION:
URL:https://www.physics.wisc.edu/events/?id=1718
END:VEVENT
END:VCALENDAR
