BEGIN:VCALENDAR
VERSION:2.0
CALSCALE:GREGORIAN
PRODID:UW-Madison-Physics-Events
BEGIN:VEVENT
SEQUENCE:0
UID:UW-Physics-Event-1762
DTSTART:20100316T170500Z
DURATION:PT1H0M0S
DTSTAMP:20260419T162304Z
LAST-MODIFIED:20100122T141428Z
LOCATION:4274 Chamberlin Hall
SUMMARY:Exploring the Conformational Search Leading to Protein Folding
  in Vitro and in the Cell\, Chaos & Complex Systems Seminar\, Silvia C
 avagnero\, UW-Madison\, Dept. of Chemistry
DESCRIPTION:Proteins are key components of all living cells and their 
 correct in vivo function is intimately connected to the well-being of 
 every living organism. The large conformational freedom of a protein c
 hain and its structural complexity suggests that understanding folding
  mechanisms and predicting protein structure from amino acid sequence 
 may be dauntingly difficult. What have we learned from the studies car
 ried out on protein folding mechanisms over the last three decades\; a
 re there any leading trends\; and how do these trends change (or are p
 redicted to change) for proteins folding in the cellular environment\,
  where a lot of the relevant parameters are dramatically tuned by vari
 ous cellular components? This talk will attempt to address some key as
 pects of the above topics and highlight research directions in crucial
  need of further exploration.<br>\n<br>
URL:https://www.physics.wisc.edu/events/?id=1762
END:VEVENT
END:VCALENDAR
