BEGIN:VCALENDAR
VERSION:2.0
CALSCALE:GREGORIAN
PRODID:UW-Madison-Physics-Events
BEGIN:VEVENT
SEQUENCE:0
UID:UW-Physics-Event-1792
DTSTART:20100208T180500Z
DURATION:PT1H0M0S
DTSTAMP:20260422T181541Z
LAST-MODIFIED:20100208T132825Z
LOCATION:2241 Chamberlin Hall
SUMMARY:Nonlinear Evolution of Resistive Tearing Mode with Sub-Alfveni
 c Shear Flow\, Plasma Physics (Physics/ECE/NE 922) Seminar\, Zheiwei M
 a\, Zhejiang University
DESCRIPTION:
URL:https://www.physics.wisc.edu/events/?id=1792
END:VEVENT
END:VCALENDAR
