BEGIN:VCALENDAR
VERSION:2.0
CALSCALE:GREGORIAN
PRODID:UW-Madison-Physics-Events
BEGIN:VEVENT
SEQUENCE:0
UID:UW-Physics-Event-1795
DTSTART:20100215T180500Z
DURATION:PT1H0M0S
DTSTAMP:20260422T185813Z
LAST-MODIFIED:20100211T211226Z
LOCATION:2241 Chamberlin Hall
SUMMARY:Electron Gyroscale Fluctuations in the National Spherical Toru
 s Experiment\, Plasma Physics (Physics/ECE/NE 922) Seminar\, David Smi
 th\, UW-Madison Dept of Engineering Physics
DESCRIPTION:
URL:https://www.physics.wisc.edu/events/?id=1795
END:VEVENT
END:VCALENDAR
