BEGIN:VCALENDAR
VERSION:2.0
CALSCALE:GREGORIAN
PRODID:UW-Madison-Physics-Events
BEGIN:VEVENT
SEQUENCE:0
UID:UW-Physics-Event-1798
DTSTART:20100222T180500Z
DURATION:PT1H0M0S
DTSTAMP:20260422T185836Z
LAST-MODIFIED:20100219T140134Z
LOCATION:2241 Chamberlin Hall
SUMMARY:Measurements of Core Turbulence Suppression on DIII-D\, Plasma
  Physics (Physics/ECE/NE 922) Seminar\, Morgan Shafer\, UW-Madison Dep
 t of Engineering Physics/General Atomics
DESCRIPTION:
URL:https://www.physics.wisc.edu/events/?id=1798
END:VEVENT
END:VCALENDAR
