BEGIN:VCALENDAR
VERSION:2.0
CALSCALE:GREGORIAN
PRODID:UW-Madison-Physics-Events
BEGIN:VEVENT
SEQUENCE:0
UID:UW-Physics-Event-1810
DTSTART:20100316T210000Z
DURATION:PT1H0M0S
DTSTAMP:20260419T162218Z
LAST-MODIFIED:20100310T142807Z
LOCATION:5280 Chamberlin Hall
SUMMARY:Non-perturbative effects on seven-brane Yukawa couplings\, Str
 ing Theory Seminar\, Fernando Marchesano\, CERN
DESCRIPTION:
URL:https://www.physics.wisc.edu/events/?id=1810
END:VEVENT
END:VCALENDAR
