BEGIN:VCALENDAR
VERSION:2.0
CALSCALE:GREGORIAN
PRODID:UW-Madison-Physics-Events
BEGIN:VEVENT
SEQUENCE:0
UID:UW-Physics-Event-1815
DTSTART:20100319T193000Z
DTEND:20100319T203000Z
DTSTAMP:20260419T162139Z
LAST-MODIFIED:20100315T175423Z
LOCATION:5280 Chamberlin Hall
SUMMARY:Electroweak Contributions to Squark and Gluino Production at t
 he LHC\, Theory/Phenomenology Seminar\, Maike Trenkel\, UW-Madison\, P
 hysics Department
DESCRIPTION:
URL:https://www.physics.wisc.edu/events/?id=1815
END:VEVENT
END:VCALENDAR
