BEGIN:VCALENDAR
VERSION:2.0
CALSCALE:GREGORIAN
PRODID:UW-Madison-Physics-Events
BEGIN:VEVENT
SEQUENCE:0
UID:UW-Physics-Event-1818
DTSTART:20100322T170500Z
DURATION:PT1H0M0S
DTSTAMP:20260422T185812Z
LAST-MODIFIED:20100316T180616Z
LOCATION:2241 Chamberlin Hall
SUMMARY:Research on DIII-D to Address the Challenges of Fusion Power\,
  Plasma Physics (Physics/ECE/NE 922) Seminar\, Richard Buttery\, Gener
 al Atomics
DESCRIPTION:
URL:https://www.physics.wisc.edu/events/?id=1818
END:VEVENT
END:VCALENDAR
