BEGIN:VCALENDAR
VERSION:2.0
CALSCALE:GREGORIAN
PRODID:UW-Madison-Physics-Events
BEGIN:VEVENT
SEQUENCE:0
UID:UW-Physics-Event-1837
DTSTART:20100407T171500Z
DURATION:PT1H0M0S
DTSTAMP:20260419T191830Z
LAST-MODIFIED:20100422T172948Z
LOCATION:5310 Chamberlin Hall
SUMMARY:Department Meeting
DESCRIPTION:
URL:https://www.physics.wisc.edu/events/?id=1837
END:VEVENT
END:VCALENDAR
