BEGIN:VCALENDAR
VERSION:2.0
CALSCALE:GREGORIAN
PRODID:UW-Madison-Physics-Events
BEGIN:VEVENT
SEQUENCE:0
UID:UW-Physics-Event-1840
DTSTART:20100412T170500Z
DURATION:PT1H0M0S
DTSTAMP:20260419T193850Z
LAST-MODIFIED:20100407T201244Z
LOCATION:2241 Chamberlin Hall
SUMMARY:Ideal and Non-Ideal Tokamak Edge Stability Calculations\, Plas
 ma Physics (Physics/ECE/NE 922) Seminar\, Nate Ferraro\, General Atomi
 cs
DESCRIPTION:
URL:https://www.physics.wisc.edu/events/?id=1840
END:VEVENT
END:VCALENDAR
