BEGIN:VCALENDAR
VERSION:2.0
CALSCALE:GREGORIAN
PRODID:UW-Madison-Physics-Events
BEGIN:VEVENT
SEQUENCE:0
UID:UW-Physics-Event-1845
DTSTART:20100419T170500Z
DURATION:PT1H0M0S
DTSTAMP:20260419T192712Z
LAST-MODIFIED:20100415T124353Z
LOCATION:2241 Chamberlin Hall
SUMMARY:Multi-Energy SXR Imaging for Magnetically Confined Fusion Stud
 ies\, Plasma Physics (Physics/ECE/NE 922) Seminar\, Luis Felpe Delgado
 -Aparicio\, Princeton Plasma Physics Laboratory
DESCRIPTION:
URL:https://www.physics.wisc.edu/events/?id=1845
END:VEVENT
END:VCALENDAR
