BEGIN:VCALENDAR
VERSION:2.0
CALSCALE:GREGORIAN
PRODID:UW-Madison-Physics-Events
BEGIN:VEVENT
SEQUENCE:0
UID:UW-Physics-Event-1855
DTSTART:20100120T181500Z
DURATION:PT1H0M0S
DTSTAMP:20260422T181542Z
LAST-MODIFIED:20100426T165933Z
LOCATION:5310 Chamberlin Hall
SUMMARY:Department Meeting
DESCRIPTION:<p><b>Topics:</b>\n\n<ul>\n\n  <li>Molly Carnes Presen
 tation: Women in\n  Science & Engineering Leadership Institute\n  (W
 ISELI) has received a grant from NIH to conduct\n  a Bias Literacy Wo
 rkshop in 90 departments at\n  UW-Madison.</li>\n\n  <li>Matters Ar
 ising</li>\n\n</ul>\n</p>\n\n\n<p><b>Announcements:</b>\n<ul>\
 n\n  <li>Congratulations to Pupa Gilbert on being\n  elected vice-ch
 air of the APS division of\n  biological physics.</li>\n\n  <li>Con
 gratulations to Chun Lin on receiving\n  a Division of University Hou
 sing's Honored\n  Instructors Award.</li>\n\n</ul>\n</p>\n
URL:https://www.physics.wisc.edu/events/?id=1855
END:VEVENT
END:VCALENDAR
