BEGIN:VCALENDAR
VERSION:2.0
CALSCALE:GREGORIAN
PRODID:UW-Madison-Physics-Events
BEGIN:VEVENT
SEQUENCE:0
UID:UW-Physics-Event-1870
DTSTART:20101119T220000Z
DURATION:PT1H0M0S
DTSTAMP:20260422T204627Z
LAST-MODIFIED:20100607T145433Z
LOCATION:2241 Chamberlin Hall (coffee at 3:30 pm)
SUMMARY:Weighing Neutrinos\, Physics Department Colloquium\, Joseph Fo
 rmaggio\, MIT
DESCRIPTION:Neutrino oscillation experiments performed throughout the 
 latter half of the twentieth century have yielded valuable information
  on the nature of neutrino masses and mixings. The evidence gathered h
 as provided the first positive evidence for physics beyond the standar
 d model. As the next century begins\, a new suite of precision experim
 ents will come online to provide greater insight into the physics and 
 significance of neutrino mass. This talk will review our current state
  of knowledge on neutrino masses\, and how new experiments will comple
 ment that knowledge in years to come.
URL:https://www.physics.wisc.edu/events/?id=1870
END:VEVENT
END:VCALENDAR
