BEGIN:VCALENDAR
VERSION:2.0
CALSCALE:GREGORIAN
PRODID:UW-Madison-Physics-Events
BEGIN:VEVENT
SEQUENCE:0
UID:UW-Physics-Event-1874
DTSTART:20100629T190000Z
DTEND:20100629T200000Z
DTSTAMP:20260422T122532Z
LAST-MODIFIED:20100623T154733Z
LOCATION:4274 Chamberlin Hall
SUMMARY:The Fokker-Planck Equation and Applications for RF Physics in 
 Magnetic Fusion Energy Research\, Special Plasma Seminar\, R. W. Harve
 y\, Comp-X in Del Mar\, CA
DESCRIPTION:
URL:https://www.physics.wisc.edu/events/?id=1874
END:VEVENT
END:VCALENDAR
