BEGIN:VCALENDAR
VERSION:2.0
CALSCALE:GREGORIAN
PRODID:UW-Madison-Physics-Events
BEGIN:VEVENT
SEQUENCE:0
UID:UW-Physics-Event-1894
DTSTART:20100930T223000Z
DTEND:20100930T233000Z
DTSTAMP:20260422T144357Z
LAST-MODIFIED:20100824T162312Z
LOCATION:2223 Chamberlin Hall
SUMMARY:High Energy Experiment\, Graduate Introductory Seminar\, Carls
 mith\, Dasu\, Heeger\, Herndon\, Mellado\, Pan\, Pondrom\, Smith\, Wu
DESCRIPTION:
URL:https://www.physics.wisc.edu/events/?id=1894
END:VEVENT
END:VCALENDAR
