BEGIN:VCALENDAR
VERSION:2.0
CALSCALE:GREGORIAN
PRODID:UW-Madison-Physics-Events
BEGIN:VEVENT
SEQUENCE:0
UID:UW-Physics-Event-1898
DTSTART:20101104T223000Z
DTEND:20101104T233000Z
DTSTAMP:20260422T204645Z
LAST-MODIFIED:20100824T162912Z
LOCATION:2223 Chamberlin Hall
SUMMARY:Phenomenology\, Graduate Introductory Seminar\, Barger\, Evere
 tt\, Han
DESCRIPTION:
URL:https://www.physics.wisc.edu/events/?id=1898
END:VEVENT
END:VCALENDAR
