BEGIN:VCALENDAR
VERSION:2.0
CALSCALE:GREGORIAN
PRODID:UW-Madison-Physics-Events
BEGIN:VEVENT
SEQUENCE:0
UID:UW-Physics-Event-1900
DTSTART:20101118T233000Z
DTEND:20101119T003000Z
DTSTAMP:20260422T204547Z
LAST-MODIFIED:20100824T163139Z
LOCATION:2223 Chamberlin Hall
SUMMARY:Medical Physics\, Graduate Introductory Seminar\, Birn\, Chris
 tian\, Nickles
DESCRIPTION:
URL:https://www.physics.wisc.edu/events/?id=1900
END:VEVENT
END:VCALENDAR
