BEGIN:VCALENDAR
VERSION:2.0
CALSCALE:GREGORIAN
PRODID:UW-Madison-Physics-Events
BEGIN:VEVENT
SEQUENCE:0
UID:UW-Physics-Event-1907
DTSTART:20100902T130000Z
DURATION:PT1H0M0S
DTSTAMP:20260422T131433Z
LAST-MODIFIED:20100902T151321Z
LOCATION:
SUMMARY:First Day of Class
DESCRIPTION:
URL:https://www.physics.wisc.edu/events/?id=1907
END:VEVENT
END:VCALENDAR
