BEGIN:VCALENDAR
VERSION:2.0
CALSCALE:GREGORIAN
PRODID:UW-Madison-Physics-Events
BEGIN:VEVENT
SEQUENCE:0
UID:UW-Physics-Event-1943
DTSTART:20101105T210000Z
DURATION:PT1H0M0S
DTSTAMP:20260422T204751Z
LAST-MODIFIED:20101102T162512Z
LOCATION:2241 Chamberlin Hall (coffee at 3:30 pm)
SUMMARY:Reionization and Cosmology with 21 cm Fluctuations\, Physics D
 epartment Colloquium\, Miguel Morales\, University of Washington
DESCRIPTION:Measurement of the spatial distribution of neutral hydroge
 n via<br>\nthe redshifted 21 cm line promises to revolutionize our kn
 owledge of the Epoch of Reionization (EoR)\, and may provide a powerfu
 l new tool for observational cosmology at redshifts 1-4. I will discus
 s how we plan to observe the faint 21 cm fluctuations in the face of s
 trong foregrounds\, the status of the first generation EoR machines\, 
 and the application of 21-cm tomography to cosmography and dark energy
  measurements after reionization.
URL:https://www.physics.wisc.edu/events/?id=1943
END:VEVENT
END:VCALENDAR
