BEGIN:VCALENDAR
VERSION:2.0
CALSCALE:GREGORIAN
PRODID:UW-Madison-Physics-Events
BEGIN:VEVENT
SEQUENCE:0
UID:UW-Physics-Event-1944
DTSTART:20110422T210000Z
DURATION:PT1H0M0S
DTSTAMP:20260419T142825Z
LAST-MODIFIED:20110418T131832Z
LOCATION:2241 Chamberlin Hall (coffee at 3:30 pm)
SUMMARY:Next Steps in Nuclear Weapons Control\, Physics Department Col
 loquium\, Jay Davis\, The Hertz Foundation
DESCRIPTION:The climate for nuclear arms reductions has changed positi
 vely in recent years with the statements of the &quot\;Gang of Four&qu
 ot\; (Kissinger\, Schultz\, Perry and Nunn) that there is a credible p
 ath to zero\, the ratification of the NEW START Treaty\, the successfu
 l review conference for the Non-Proliferation Treaty\, and the resubmi
 ssion for ratification of the CTBT.   Jay Davis\, who served as an UNS
 COM inspector in Iraq after the first Gulf War and as the head of all 
 US inspection processes as first Director of the Defense Threat Reduct
 ion Agency\, recently lead an APS/POPA study on the technology needs f
 or future arms control treaties.  However\, in addition to technology\
 , many other issues matter as the number of nuclear weapons is decreas
 ed.  Among these are changes to theories of deterrence and the nuclear
  umbrella over non-nuclear states\, the lesser granularity of military
  platforms that support the weapons\, increased credibility of missile
  defensive systems\, and the coupling of conventional and nuclear weap
 ons\, among others.  Davis will walk the audience through a progressiv
 e set of weapons reductions that illustrate these points.  Comparison 
 to either Zeno's Paradox or Dante's Circles is discouraged.  The talk 
 does however end with an interesting technical proposal for evaluation
 .
URL:https://www.physics.wisc.edu/events/?id=1944
END:VEVENT
END:VCALENDAR
