BEGIN:VCALENDAR
VERSION:2.0
CALSCALE:GREGORIAN
PRODID:UW-Madison-Physics-Events
BEGIN:VEVENT
SEQUENCE:0
UID:UW-Physics-Event-1952
DTSTART:20100914T203000Z
DTEND:20100914T220000Z
DTSTAMP:20260422T144256Z
LAST-MODIFIED:20100913T154616Z
LOCATION:4421 Sterling Hall  Same Location
SUMMARY:The Transiting Extrasolar Planets - A vehicle to learn new fea
 tures about extrasolar systems\, Special Astronomy Colloquium Talk\, T
 sevi Mazeh\, Tel Aviv University
DESCRIPTION:About 100 of the known extrasolar planets eclipse their pa
 rent star once every orbital period. The detection of these transiting
  planets in the last few years allowed the derivation of the planetary
  masses and radii\, some of the parent star obliquity and sometimes ev
 en the planetary temperatures and atmospherical features. The talk wil
 l review the detection and study of the presently known transiting pla
 nets\, and will point out how the new systems are different from our o
 wn solar system. <br>\n<br>\nThe new era of studying transiting plan
 ets from space by CoRoT and Kepler allows detection of minute modulati
 ons\, with amplitudes of the order of 10's ppm (parts per million). I 
 will discuss a recent detection of the ellipsoidal and the relativisti
 c beaming effects in the lightcurve of CoRoT-3. <br>\n
URL:https://www.physics.wisc.edu/events/?id=1952
END:VEVENT
END:VCALENDAR
