BEGIN:VCALENDAR
VERSION:2.0
CALSCALE:GREGORIAN
PRODID:UW-Madison-Physics-Events
BEGIN:VEVENT
SEQUENCE:0
UID:UW-Physics-Event-1955
DTSTART:20101102T170500Z
DURATION:PT1H0M0S
DTSTAMP:20260422T204643Z
LAST-MODIFIED:20100913T155053Z
LOCATION:4274 Chamberlin Hall
SUMMARY:Water: Wild Card in the Climate System\, Chaos & Complex Syste
 ms Seminar\, John Young\, UW-Madison Department of Atmospheric and Oce
 anic Sciences
DESCRIPTION:
URL:https://www.physics.wisc.edu/events/?id=1955
END:VEVENT
END:VCALENDAR
