BEGIN:VCALENDAR
VERSION:2.0
CALSCALE:GREGORIAN
PRODID:UW-Madison-Physics-Events
BEGIN:VEVENT
SEQUENCE:0
UID:UW-Physics-Event-1958
DTSTART:20100930T203000Z
DTEND:20100930T220000Z
DTSTAMP:20260422T144357Z
LAST-MODIFIED:20100913T155808Z
LOCATION:4421 Sterling Hall  Same Location
SUMMARY:Models of Wind-Driving Protostellar Disks\, Astronomy Colloqui
 um\, Seth Teitler\, UW Astronomy Dept
DESCRIPTION:TBD
URL:https://www.physics.wisc.edu/events/?id=1958
END:VEVENT
END:VCALENDAR
