BEGIN:VCALENDAR
VERSION:2.0
CALSCALE:GREGORIAN
PRODID:UW-Madison-Physics-Events
BEGIN:VEVENT
SEQUENCE:0
UID:UW-Physics-Event-1959
DTSTART:20101123T180500Z
DURATION:PT1H0M0S
DTSTAMP:20260422T204752Z
LAST-MODIFIED:20100913T160028Z
LOCATION:4274 Chamberlin Hall
SUMMARY:How Drifting Continents Jumped From Fringe to Core\, Chaos & C
 omplex Systems Seminar\, Jim Blair\, Milton College\, Emeritus
DESCRIPTION:How Continental Drift became Plate Tectonics and was eleva
 ted from a fringe idea in the company of Atlantis\, ancient aliens & f
 lying saucers\, to become the Fundamental Core of Geology in the compa
 ny of Evolution\, Quantum Mechanics\, Relativity\, and the Big Bang. <
 br>\n<br>\nThe Structure of Scientific Revolutions. <br>\n<br>\nHo
 w I celebrated the Paradigm Shift. <br>\n<br>\nHow Uniformitarianism
  was ambushed by an asteroid and Punctuated Equilibrium.<br>
URL:https://www.physics.wisc.edu/events/?id=1959
END:VEVENT
END:VCALENDAR
