BEGIN:VCALENDAR
VERSION:2.0
CALSCALE:GREGORIAN
PRODID:UW-Madison-Physics-Events
BEGIN:VEVENT
SEQUENCE:0
UID:UW-Physics-Event-1964
DTSTART:20100920T170500Z
DURATION:PT1H0M0S
DTSTAMP:20260422T154512Z
LAST-MODIFIED:20100916T183146Z
LOCATION:2535 Engineering Hall
SUMMARY:Prospect for Fusion Energy in the 21st Century\, Plasma Physic
 s (Physics/ECE/NE 922) Seminar\, Prof. Farrokh Najmabadi\, University 
 of California-San Deigo
DESCRIPTION:
URL:https://www.physics.wisc.edu/events/?id=1964
END:VEVENT
END:VCALENDAR
