BEGIN:VCALENDAR
VERSION:2.0
CALSCALE:GREGORIAN
PRODID:UW-Madison-Physics-Events
BEGIN:VEVENT
SEQUENCE:0
UID:UW-Physics-Event-1966
DTSTART:20100927T210000Z
DURATION:PT1H0M0S
DTSTAMP:20260422T144149Z
LAST-MODIFIED:20100915T160018Z
LOCATION:514 ERB
SUMMARY:Kinetic Shielding of Magnetic Islands in 3-D Equilibria\, Plas
 ma Theory Seminar\, Chris Hegna\, UW-Madison Engineering Physics
DESCRIPTION:
URL:https://www.physics.wisc.edu/events/?id=1966
END:VEVENT
END:VCALENDAR
