BEGIN:VCALENDAR
VERSION:2.0
CALSCALE:GREGORIAN
PRODID:UW-Madison-Physics-Events
BEGIN:VEVENT
SEQUENCE:0
UID:UW-Physics-Event-1974
DTSTART:20100927T170500Z
DURATION:PT1H0M0S
DTSTAMP:20260422T144510Z
LAST-MODIFIED:20100922T121922Z
LOCATION:2535 Engineering Hall
SUMMARY:Plasma Confinement on Shaped Open Field Lines:  Results from t
 he Maryland Centrifugal Experiment\, Plasma Physics (Physics/ECE/NE 92
 2) Seminar\, Adil Hassam\, University of Maryland/Dept of Physics
DESCRIPTION:
URL:https://www.physics.wisc.edu/events/?id=1974
END:VEVENT
END:VCALENDAR
