BEGIN:VCALENDAR
VERSION:2.0
CALSCALE:GREGORIAN
PRODID:UW-Madison-Physics-Events
BEGIN:VEVENT
SEQUENCE:0
UID:UW-Physics-Event-1989
DTSTART:20101117T223000Z
DURATION:PT1H0M0S
DTSTAMP:20260422T204752Z
LAST-MODIFIED:20101110T145804Z
LOCATION:4274 Chamberlin Hall
SUMMARY:New Applications of World Line Effective Theories\, NPAC (Nucl
 ear/Particle/Astro/Cosmo) Forum\, Ira Rothstein\, Carnegie Mellon Univ
 ersity
DESCRIPTION:
URL:https://www.physics.wisc.edu/events/?id=1989
END:VEVENT
END:VCALENDAR
