BEGIN:VCALENDAR
VERSION:2.0
CALSCALE:GREGORIAN
PRODID:UW-Madison-Physics-Events
BEGIN:VEVENT
SEQUENCE:0
UID:UW-Physics-Event-1993
DTSTART:20100127T160000Z
DURATION:PT1H0M0S
DTSTAMP:20260422T131635Z
LAST-MODIFIED:20101004T190700Z
LOCATION:5310 Chamberlin
SUMMARY:TBA\, R. G. Herb Condensed Matter Seminar\, Alexander Abanov\,
  Stony Brook University
DESCRIPTION:
URL:https://www.physics.wisc.edu/events/?id=1993
END:VEVENT
END:VCALENDAR
