BEGIN:VCALENDAR
VERSION:2.0
CALSCALE:GREGORIAN
PRODID:UW-Madison-Physics-Events
BEGIN:VEVENT
SEQUENCE:0
UID:UW-Physics-Event-2006
DTSTART:20101102T210000Z
DURATION:PT1H0M0S
DTSTAMP:20260422T204547Z
LAST-MODIFIED:20101018T145211Z
LOCATION: 5280 Chamberlin
SUMMARY:Phenomenology of D-branes at Toric Singularities\, String Theo
 ry Seminar\, Sven Krippendorf\, Cambridge University
DESCRIPTION:
URL:https://www.physics.wisc.edu/events/?id=2006
END:VEVENT
END:VCALENDAR
